Package: BUSseq Version: 1.10.0 Command: /Library/Frameworks/R.framework/Resources/bin/R CMD build --keep-empty-dirs --no-resave-data BUSseq StartedAt: 2024-10-16 20:45:08 -0400 (Wed, 16 Oct 2024) EndedAt: 2024-10-16 20:46:42 -0400 (Wed, 16 Oct 2024) EllapsedTime: 93.7 seconds RetCode: 0 Status: OK PackageFile: BUSseq_1.10.0.tar.gz PackageFileSize: 977.5 KiB