Package: BUSseq Version: 1.10.0 Command: rm -rf BUSseq.buildbin-libdir && mkdir BUSseq.buildbin-libdir && /Users/biocbuild/BBS/utils/build-universal.sh BUSseq_1.10.0.tar.gz /Library/Frameworks/R.framework/Resources/bin/R BUSseq.buildbin-libdir StartedAt: 2024-10-18 17:37:03 -0400 (Fri, 18 Oct 2024) EndedAt: 2024-10-18 17:37:38 -0400 (Fri, 18 Oct 2024) EllapsedTime: 34.5 seconds RetCode: 0 Status: OK PackageFile: BUSseq_1.10.0.tgz PackageFileSize: 958 KiB