Package: BUSpaRse Version: 1.18.1 Command: E:\biocbuild\bbs-3.19-bioc\R\bin\R.exe CMD INSTALL BUSpaRse StartedAt: 2024-10-16 16:43:24 -0400 (Wed, 16 Oct 2024) EndedAt: 2024-10-16 16:44:41 -0400 (Wed, 16 Oct 2024) EllapsedTime: 76.8 seconds RetCode: 0 Status: OK