Package: BUSpaRse Version: 1.18.1 Command: E:\biocbuild\bbs-3.19-bioc\R\bin\R.exe CMD check --no-multiarch --install=check:BUSpaRse.install-out.txt --library=E:\biocbuild\bbs-3.19-bioc\R\library --no-vignettes --timings BUSpaRse_1.18.1.tar.gz StartedAt: 2024-10-16 23:34:15 -0400 (Wed, 16 Oct 2024) EndedAt: 2024-10-16 23:43:19 -0400 (Wed, 16 Oct 2024) EllapsedTime: 543.3 seconds RetCode: 0 Status: OK CheckDir: BUSpaRse.Rcheck Warnings: 0