Package: BUSpaRse Version: 1.18.0 Command: rm -rf BUSpaRse.buildbin-libdir && mkdir BUSpaRse.buildbin-libdir && F:\biocbuild\bbs-3.19-bioc\R\bin\R.exe CMD INSTALL --build --library=BUSpaRse.buildbin-libdir BUSpaRse_1.18.0.tar.gz StartedAt: 2024-06-13 15:01:31 -0400 (Thu, 13 Jun 2024) EndedAt: 2024-06-13 15:04:05 -0400 (Thu, 13 Jun 2024) EllapsedTime: 154.5 seconds RetCode: 0 Status: OK PackageFile: BUSpaRse_1.18.0.zip PackageFileSize: 1.122 MiB