Package: BUSpaRse Version: 1.18.1 Command: /home/biocbuild/bbs-3.19-bioc/R/bin/R CMD check --install=check:BUSpaRse.install-out.txt --library=/home/biocbuild/bbs-3.19-bioc/R/site-library --timings BUSpaRse_1.18.1.tar.gz StartedAt: 2024-10-16 22:22:00 -0400 (Wed, 16 Oct 2024) EndedAt: 2024-10-16 22:40:21 -0400 (Wed, 16 Oct 2024) EllapsedTime: 1100.4 seconds RetCode: 0 Status: OK CheckDir: BUSpaRse.Rcheck Warnings: 0