Package: BUSpaRse Version: 1.18.1 Command: /Library/Frameworks/R.framework/Resources/bin/R CMD build --keep-empty-dirs --no-resave-data BUSpaRse StartedAt: 2024-10-16 17:39:02 -0400 (Wed, 16 Oct 2024) EndedAt: 2024-10-16 17:44:56 -0400 (Wed, 16 Oct 2024) EllapsedTime: 353.6 seconds RetCode: 0 Status: OK PackageFile: BUSpaRse_1.18.1.tar.gz PackageFileSize: 578.2 KiB