Package: BUSpaRse Version: 1.18.1 Command: rm -rf BUSpaRse.buildbin-libdir && mkdir BUSpaRse.buildbin-libdir && /Users/biocbuild/BBS/utils/build-universal.sh BUSpaRse_1.18.1.tar.gz /Library/Frameworks/R.framework/Resources/bin/R BUSpaRse.buildbin-libdir StartedAt: 2024-10-17 15:46:06 -0400 (Thu, 17 Oct 2024) EndedAt: 2024-10-17 15:48:27 -0400 (Thu, 17 Oct 2024) EllapsedTime: 140.9 seconds RetCode: 0 Status: OK PackageFile: BUSpaRse_1.18.1.tgz PackageFileSize: 843.8 KiB