Package: BUSpaRse Version: 1.18.0 Command: /Library/Frameworks/R.framework/Resources/bin/R CMD check --install=check:BUSpaRse.install-out.txt --library=/Library/Frameworks/R.framework/Resources/library --no-vignettes --timings BUSpaRse_1.18.0.tar.gz StartedAt: 2024-06-09 19:11:43 -0400 (Sun, 09 Jun 2024) EndedAt: 2024-06-09 19:19:12 -0400 (Sun, 09 Jun 2024) EllapsedTime: 449.6 seconds RetCode: 1 Status: ERROR CheckDir: BUSpaRse.Rcheck Warnings: NA