Package: BUSpaRse Version: 1.18.0 Command: rm -rf BUSpaRse.buildbin-libdir && mkdir BUSpaRse.buildbin-libdir && /Users/biocbuild/BBS/utils/build-universal.sh BUSpaRse_1.18.0.tar.gz /Library/Frameworks/R.framework/Resources/bin/R BUSpaRse.buildbin-libdir StartedAt: 2024-06-10 00:09:30 -0400 (Mon, 10 Jun 2024) EndedAt: 2024-06-10 00:10:49 -0400 (Mon, 10 Jun 2024) EllapsedTime: 78.7 seconds RetCode: 0 Status: OK PackageFile: BUSpaRse_1.18.0.tgz PackageFileSize: 840.3 KiB