Package: BUSpaRse Version: 1.18.1 Maintainer: Lambda Moses MaintainerEmail: dlu2 at caltech.edu git_url: https://git.bioconductor.org/packages/BUSpaRse git_branch: RELEASE_3_19 git_last_commit: 6e88881 git_last_commit_date: 2024-07-31 12:18:00 -0400 (Wed, 31 Jul 2024)