Package: BUScorrect Version: 1.22.0 Command: E:\biocbuild\bbs-3.19-bioc\R\bin\R.exe CMD INSTALL BUScorrect StartedAt: 2024-10-16 16:18:34 -0400 (Wed, 16 Oct 2024) EndedAt: 2024-10-16 16:19:07 -0400 (Wed, 16 Oct 2024) EllapsedTime: 32.5 seconds RetCode: 0 Status: OK