Package: BUScorrect Version: 1.22.0 Command: rm -rf BUScorrect.buildbin-libdir && mkdir BUScorrect.buildbin-libdir && E:\biocbuild\bbs-3.19-bioc\R\bin\R.exe CMD INSTALL --build --library=BUScorrect.buildbin-libdir BUScorrect_1.22.0.tar.gz StartedAt: 2024-10-17 07:28:00 -0400 (Thu, 17 Oct 2024) EndedAt: 2024-10-17 07:28:29 -0400 (Thu, 17 Oct 2024) EllapsedTime: 29.1 seconds RetCode: 0 Status: OK PackageFile: BUScorrect_1.22.0.zip PackageFileSize: 3.61 MiB