Package: BUScorrect Version: 1.22.0 Command: /home/biocbuild/bbs-3.19-bioc/R/bin/R CMD build --keep-empty-dirs --no-resave-data BUScorrect StartedAt: 2024-10-16 17:25:59 -0400 (Wed, 16 Oct 2024) EndedAt: 2024-10-16 17:27:47 -0400 (Wed, 16 Oct 2024) EllapsedTime: 108.2 seconds RetCode: 0 Status: OK PackageFile: BUScorrect_1.22.0.tar.gz PackageFileSize: 3.518 MiB