Package: BUMHMM Version: 1.28.0 Command: E:\biocbuild\bbs-3.19-bioc\R\bin\R.exe CMD check --no-multiarch --install=check:BUMHMM.install-out.txt --library=E:\biocbuild\bbs-3.19-bioc\R\library --no-vignettes --timings BUMHMM_1.28.0.tar.gz StartedAt: 2024-10-16 23:33:30 -0400 (Wed, 16 Oct 2024) EndedAt: 2024-10-16 23:36:52 -0400 (Wed, 16 Oct 2024) EllapsedTime: 202.1 seconds RetCode: 0 Status: OK CheckDir: BUMHMM.Rcheck Warnings: 0