Package: BUMHMM Version: 1.28.0 Command: F:\biocbuild\bbs-3.19-bioc\R\bin\R.exe CMD INSTALL BUMHMM StartedAt: 2024-06-26 16:26:45 -0400 (Wed, 26 Jun 2024) EndedAt: 2024-06-26 16:27:20 -0400 (Wed, 26 Jun 2024) EllapsedTime: 35.2 seconds RetCode: 0 Status: OK