Package: BUMHMM Version: 1.28.0 Command: /Library/Frameworks/R.framework/Resources/bin/R CMD INSTALL BUMHMM StartedAt: 2024-10-16 16:11:11 -0400 (Wed, 16 Oct 2024) EndedAt: 2024-10-16 16:12:11 -0400 (Wed, 16 Oct 2024) EllapsedTime: 59.9 seconds RetCode: 0 Status: OK