Package: BUMHMM Version: 1.28.0 Command: rm -rf BUMHMM.buildbin-libdir && mkdir BUMHMM.buildbin-libdir && /Users/biocbuild/BBS/utils/build-universal.sh BUMHMM_1.28.0.tar.gz /Library/Frameworks/R.framework/Resources/bin/R BUMHMM.buildbin-libdir StartedAt: 2024-10-17 15:45:55 -0400 (Thu, 17 Oct 2024) EndedAt: 2024-10-17 15:46:59 -0400 (Thu, 17 Oct 2024) EllapsedTime: 63.8 seconds RetCode: 0 Status: OK PackageFile: BUMHMM_1.28.0.tgz PackageFileSize: 750.5 KiB