Package: BSgenomeForge Version: 1.4.1 Command: E:\biocbuild\bbs-3.19-bioc\R\bin\R.exe CMD INSTALL BSgenomeForge StartedAt: 2024-10-16 16:31:57 -0400 (Wed, 16 Oct 2024) EndedAt: 2024-10-16 16:33:36 -0400 (Wed, 16 Oct 2024) EllapsedTime: 99.5 seconds RetCode: 0 Status: OK