Package: BSgenomeForge Version: 1.4.1 Command: E:\biocbuild\bbs-3.19-bioc\R\bin\R.exe CMD check --no-multiarch --install=check:BSgenomeForge.install-out.txt --library=E:\biocbuild\bbs-3.19-bioc\R\library --no-vignettes --timings BSgenomeForge_1.4.1.tar.gz StartedAt: 2024-10-16 23:32:51 -0400 (Wed, 16 Oct 2024) EndedAt: 2024-10-16 23:42:25 -0400 (Wed, 16 Oct 2024) EllapsedTime: 573.5 seconds RetCode: 1 Status: ERROR CheckDir: BSgenomeForge.Rcheck Warnings: NA