Package: BSgenomeForge Version: 1.4.1 Command: rm -rf BSgenomeForge.buildbin-libdir && mkdir BSgenomeForge.buildbin-libdir && E:\biocbuild\bbs-3.19-bioc\R\bin\R.exe CMD INSTALL --build --library=BSgenomeForge.buildbin-libdir BSgenomeForge_1.4.1.tar.gz StartedAt: 2024-10-17 07:27:42 -0400 (Thu, 17 Oct 2024) EndedAt: 2024-10-17 07:28:46 -0400 (Thu, 17 Oct 2024) EllapsedTime: 63.3 seconds RetCode: 0 Status: OK PackageFile: BSgenomeForge_1.4.1.zip PackageFileSize: 682.4 KiB