Package: BSgenomeForge Version: 1.4.0 Command: chmod a+r BSgenomeForge -R && F:\biocbuild\bbs-3.19-bioc\R\bin\R.exe CMD build --keep-empty-dirs --no-resave-data BSgenomeForge StartedAt: 2024-06-26 17:33:20 -0400 (Wed, 26 Jun 2024) EndedAt: 2024-06-26 17:34:33 -0400 (Wed, 26 Jun 2024) EllapsedTime: 73.1 seconds RetCode: 0 Status: OK PackageFile: BSgenomeForge_1.4.0.tar.gz PackageFileSize: 455.6 KiB