Package: BSgenomeForge Version: 1.4.1 Command: /home/biocbuild/bbs-3.19-bioc/R/bin/R CMD INSTALL BSgenomeForge StartedAt: 2024-10-16 16:10:21 -0400 (Wed, 16 Oct 2024) EndedAt: 2024-10-16 16:10:53 -0400 (Wed, 16 Oct 2024) EllapsedTime: 31.5 seconds RetCode: 0 Status: OK