Package: BSgenomeForge Version: 1.4.1 Command: /home/biocbuild/bbs-3.19-bioc/R/bin/R CMD check --install=check:BSgenomeForge.install-out.txt --library=/home/biocbuild/bbs-3.19-bioc/R/site-library --timings BSgenomeForge_1.4.1.tar.gz StartedAt: 2024-10-16 22:20:11 -0400 (Wed, 16 Oct 2024) EndedAt: 2024-10-16 22:25:21 -0400 (Wed, 16 Oct 2024) EllapsedTime: 309.7 seconds RetCode: 0 Status: OK CheckDir: BSgenomeForge.Rcheck Warnings: 0