Package: BSgenomeForge Version: 1.4.1 Command: /Library/Frameworks/R.framework/Resources/bin/R CMD build --keep-empty-dirs --no-resave-data BSgenomeForge StartedAt: 2024-10-16 17:38:04 -0400 (Wed, 16 Oct 2024) EndedAt: 2024-10-16 17:39:59 -0400 (Wed, 16 Oct 2024) EllapsedTime: 115.6 seconds RetCode: 0 Status: OK PackageFile: BSgenomeForge_1.4.1.tar.gz PackageFileSize: 693.6 KiB