Package: BSgenomeForge Version: 1.4.1 Command: rm -rf BSgenomeForge.buildbin-libdir && mkdir BSgenomeForge.buildbin-libdir && /Users/biocbuild/BBS/utils/build-universal.sh BSgenomeForge_1.4.1.tar.gz /Library/Frameworks/R.framework/Resources/bin/R BSgenomeForge.buildbin-libdir StartedAt: 2024-10-17 15:45:38 -0400 (Thu, 17 Oct 2024) EndedAt: 2024-10-17 15:46:58 -0400 (Thu, 17 Oct 2024) EllapsedTime: 79.9 seconds RetCode: 0 Status: OK PackageFile: BSgenomeForge_1.4.1.tgz PackageFileSize: 808.7 KiB