Package: BSgenomeForge Version: 1.4.1 Command: /Library/Frameworks/R.framework/Resources/bin/R CMD INSTALL BSgenomeForge StartedAt: 2024-10-16 16:47:20 -0400 (Wed, 16 Oct 2024) EndedAt: 2024-10-16 16:48:00 -0400 (Wed, 16 Oct 2024) EllapsedTime: 40.3 seconds RetCode: 0 Status: OK