Package: BSgenomeForge Version: 1.4.1 Command: /Library/Frameworks/R.framework/Resources/bin/R CMD check --install=check:BSgenomeForge.install-out.txt --library=/Library/Frameworks/R.framework/Resources/library --no-vignettes --timings BSgenomeForge_1.4.1.tar.gz StartedAt: 2024-10-17 14:37:31 -0400 (Thu, 17 Oct 2024) EndedAt: 2024-10-17 14:43:06 -0400 (Thu, 17 Oct 2024) EllapsedTime: 335.8 seconds RetCode: 0 Status: OK CheckDir: BSgenomeForge.Rcheck Warnings: 0