Package: BSgenomeForge Version: 1.4.1 Command: rm -rf BSgenomeForge.buildbin-libdir && mkdir BSgenomeForge.buildbin-libdir && /Users/biocbuild/BBS/utils/build-universal.sh BSgenomeForge_1.4.1.tar.gz /Library/Frameworks/R.framework/Resources/bin/R BSgenomeForge.buildbin-libdir StartedAt: 2024-10-18 17:35:45 -0400 (Fri, 18 Oct 2024) EndedAt: 2024-10-18 17:36:30 -0400 (Fri, 18 Oct 2024) EllapsedTime: 44.0 seconds RetCode: 0 Status: OK PackageFile: BSgenomeForge_1.4.1.tgz PackageFileSize: 808.6 KiB