Package: BSgenome Version: 1.72.0 Command: /home/biocbuild/bbs-3.19-bioc/R/bin/R CMD INSTALL BSgenome StartedAt: 2024-10-16 16:06:34 -0400 (Wed, 16 Oct 2024) EndedAt: 2024-10-16 16:07:14 -0400 (Wed, 16 Oct 2024) EllapsedTime: 40.4 seconds RetCode: 0 Status: OK