Package: BSgenome Version: 1.72.0 Command: /home/biocbuild/bbs-3.19-bioc/R/bin/R CMD check --install=check:BSgenome.install-out.txt --library=/home/biocbuild/bbs-3.19-bioc/R/site-library --timings BSgenome_1.72.0.tar.gz StartedAt: 2024-10-16 22:20:05 -0400 (Wed, 16 Oct 2024) EndedAt: 2024-10-16 22:26:47 -0400 (Wed, 16 Oct 2024) EllapsedTime: 401.8 seconds RetCode: 0 Status: WARNINGS CheckDir: BSgenome.Rcheck Warnings: 1