Package: BSgenome Version: 1.72.0 Command: /home/biocbuild/bbs-3.19-bioc/R/bin/R CMD build --keep-empty-dirs --no-resave-data BSgenome StartedAt: 2024-10-16 17:24:17 -0400 (Wed, 16 Oct 2024) EndedAt: 2024-10-16 17:25:49 -0400 (Wed, 16 Oct 2024) EllapsedTime: 92.1 seconds RetCode: 0 Status: OK PackageFile: BSgenome_1.72.0.tar.gz PackageFileSize: 5.455 MiB