Package: BSgenome Version: 1.72.0 Command: /Library/Frameworks/R.framework/Resources/bin/R CMD check --install=check:BSgenome.install-out.txt --library=/Library/Frameworks/R.framework/Resources/library --no-vignettes --timings BSgenome_1.72.0.tar.gz StartedAt: 2024-10-17 02:07:17 -0400 (Thu, 17 Oct 2024) EndedAt: 2024-10-17 02:20:30 -0400 (Thu, 17 Oct 2024) EllapsedTime: 792.6 seconds RetCode: 0 Status: WARNINGS CheckDir: BSgenome.Rcheck Warnings: 1