Package: BSgenome Version: 1.72.0 Command: rm -rf BSgenome.buildbin-libdir && mkdir BSgenome.buildbin-libdir && /Users/biocbuild/BBS/utils/build-universal.sh BSgenome_1.72.0.tar.gz /Library/Frameworks/R.framework/Resources/bin/R BSgenome.buildbin-libdir StartedAt: 2024-10-17 15:45:38 -0400 (Thu, 17 Oct 2024) EndedAt: 2024-10-17 15:47:27 -0400 (Thu, 17 Oct 2024) EllapsedTime: 109.0 seconds RetCode: 0 Status: OK PackageFile: BSgenome_1.72.0.tgz PackageFileSize: 6.961 MiB