Package: BSgenome Version: 1.72.0 Command: /Library/Frameworks/R.framework/Resources/bin/R CMD build --keep-empty-dirs --no-resave-data BSgenome StartedAt: 2024-10-16 20:41:56 -0400 (Wed, 16 Oct 2024) EndedAt: 2024-10-16 20:44:17 -0400 (Wed, 16 Oct 2024) EllapsedTime: 140.7 seconds RetCode: 0 Status: OK PackageFile: BSgenome_1.72.0.tar.gz PackageFileSize: 5.629 MiB