Package: BRGenomics Version: 1.16.1 Command: E:\biocbuild\bbs-3.19-bioc\R\bin\R.exe CMD check --no-multiarch --install=check:BRGenomics.install-out.txt --library=E:\biocbuild\bbs-3.19-bioc\R\library --no-vignettes --timings BRGenomics_1.16.1.tar.gz StartedAt: 2024-10-16 23:31:18 -0400 (Wed, 16 Oct 2024) EndedAt: 2024-10-17 00:11:19 -0400 (Thu, 17 Oct 2024) EllapsedTime: 2400.9 seconds RetCode: None Status: TIMEOUT CheckDir: BRGenomics.Rcheck Warnings: NA