Package: BRGenomics Version: 1.16.0 Command: F:\biocbuild\bbs-3.19-bioc\R\bin\R.exe CMD INSTALL BRGenomics StartedAt: 2024-06-26 16:03:21 -0400 (Wed, 26 Jun 2024) EndedAt: 2024-06-26 16:04:11 -0400 (Wed, 26 Jun 2024) EllapsedTime: 49.8 seconds RetCode: 0 Status: OK