Package: BRGenomics Version: 1.16.1 Command: /home/biocbuild/bbs-3.19-bioc/R/bin/R CMD check --install=check:BRGenomics.install-out.txt --library=/home/biocbuild/bbs-3.19-bioc/R/site-library --timings BRGenomics_1.16.1.tar.gz StartedAt: 2024-10-16 22:19:30 -0400 (Wed, 16 Oct 2024) EndedAt: 2024-10-16 22:59:30 -0400 (Wed, 16 Oct 2024) EllapsedTime: 2400.3 seconds RetCode: None Status: TIMEOUT CheckDir: BRGenomics.Rcheck Warnings: NA