Package: BRGenomics Version: 1.16.1 Command: /home/biocbuild/bbs-3.19-bioc/R/bin/R CMD build --keep-empty-dirs --no-resave-data BRGenomics StartedAt: 2024-10-16 17:24:03 -0400 (Wed, 16 Oct 2024) EndedAt: 2024-10-16 17:25:19 -0400 (Wed, 16 Oct 2024) EllapsedTime: 76.1 seconds RetCode: 0 Status: OK PackageFile: BRGenomics_1.16.1.tar.gz PackageFileSize: 3.881 MiB