Package: BRGenomics Version: 1.16.0 Command: /home/biocbuild/R/R-beta-2024-04-15_r86425/bin/R CMD build --keep-empty-dirs --no-resave-data BRGenomics StartedAt: 2024-05-08 22:58:21 -0000 (Wed, 08 May 2024) EndedAt: 2024-05-08 23:00:20 -0000 (Wed, 08 May 2024) EllapsedTime: 119.2 seconds RetCode: 0 Status: OK PackageFile: BRGenomics_1.16.0.tar.gz PackageFileSize: 4.398 MiB