Package: BRGenomics Version: 1.16.0 Command: /Library/Frameworks/R.framework/Resources/bin/R CMD INSTALL BRGenomics StartedAt: 2024-06-09 15:43:27 -0400 (Sun, 09 Jun 2024) EndedAt: 2024-06-09 15:44:18 -0400 (Sun, 09 Jun 2024) EllapsedTime: 51.1 seconds RetCode: 0 Status: OK