Package: BREW3R.r Version: 1.0.1 Command: /home/biocbuild/bbs-3.19-bioc/R/bin/R CMD check --install=check:BREW3R.r.install-out.txt --library=/home/biocbuild/bbs-3.19-bioc/R/site-library --timings BREW3R.r_1.0.1.tar.gz StartedAt: 2024-10-16 22:19:06 -0400 (Wed, 16 Oct 2024) EndedAt: 2024-10-16 22:20:57 -0400 (Wed, 16 Oct 2024) EllapsedTime: 111.3 seconds RetCode: 0 Status: OK CheckDir: BREW3R.r.Rcheck Warnings: 0