Package: BREW3R.r Version: 1.0.0 Command: /home/biocbuild/R/R-beta-2024-04-15_r86425/bin/R CMD INSTALL BREW3R.r StartedAt: 2024-05-08 20:12:14 -0000 (Wed, 08 May 2024) EndedAt: 2024-05-08 20:12:26 -0000 (Wed, 08 May 2024) EllapsedTime: 12.6 seconds RetCode: 0 Status: OK