Package: BREW3R.r Version: 1.0.0 Command: /home/biocbuild/R/R-beta-2024-04-15_r86425/bin/R CMD check --install=check:BREW3R.r.install-out.txt --library=/home/biocbuild/R/R-beta-2024-04-15_r86425/site-library --no-vignettes --timings BREW3R.r_1.0.0.tar.gz StartedAt: 2024-05-09 05:26:24 -0000 (Thu, 09 May 2024) EndedAt: 2024-05-09 05:28:15 -0000 (Thu, 09 May 2024) EllapsedTime: 110.9 seconds RetCode: 0 Status: OK CheckDir: BREW3R.r.Rcheck Warnings: 0