Package: BRAIN Version: 1.50.0 Command: rm -rf BRAIN.buildbin-libdir && mkdir BRAIN.buildbin-libdir && /Users/biocbuild/BBS/utils/build-universal.sh BRAIN_1.50.0.tar.gz /Library/Frameworks/R.framework/Resources/bin/R BRAIN.buildbin-libdir StartedAt: 2024-06-11 10:23:37 -0400 (Tue, 11 Jun 2024) EndedAt: 2024-06-11 10:24:01 -0400 (Tue, 11 Jun 2024) EllapsedTime: 24.7 seconds RetCode: 0 Status: OK PackageFile: BRAIN_1.50.0.tgz PackageFileSize: 2.053 MiB