Package: BPRMeth Version: 1.30.0 Command: E:\biocbuild\bbs-3.19-bioc\R\bin\R.exe CMD check --no-multiarch --install=check:BPRMeth.install-out.txt --library=E:\biocbuild\bbs-3.19-bioc\R\library --no-vignettes --timings BPRMeth_1.30.0.tar.gz StartedAt: 2024-10-16 23:29:07 -0400 (Wed, 16 Oct 2024) EndedAt: 2024-10-16 23:33:19 -0400 (Wed, 16 Oct 2024) EllapsedTime: 252.6 seconds RetCode: 0 Status: OK CheckDir: BPRMeth.Rcheck Warnings: 0