Package: BPRMeth Version: 1.30.0 Command: chmod a+r BPRMeth -R && F:\biocbuild\bbs-3.19-bioc\R\bin\R.exe CMD build --keep-empty-dirs --no-resave-data BPRMeth StartedAt: 2024-06-26 17:32:07 -0400 (Wed, 26 Jun 2024) EndedAt: 2024-06-26 17:34:43 -0400 (Wed, 26 Jun 2024) EllapsedTime: 155.9 seconds RetCode: 0 Status: OK PackageFile: BPRMeth_1.30.0.tar.gz PackageFileSize: 2.48 MiB