Package: BPRMeth Version: 1.30.0 Command: /Library/Frameworks/R.framework/Resources/bin/R CMD INSTALL BPRMeth StartedAt: 2024-06-09 16:23:29 -0400 (Sun, 09 Jun 2024) EndedAt: 2024-06-09 16:24:10 -0400 (Sun, 09 Jun 2024) EllapsedTime: 40.8 seconds RetCode: 0 Status: OK