Package: BPRMeth Version: 1.30.0 Command: rm -rf BPRMeth.buildbin-libdir && mkdir BPRMeth.buildbin-libdir && /Users/biocbuild/BBS/utils/build-universal.sh BPRMeth_1.30.0.tar.gz /Library/Frameworks/R.framework/Resources/bin/R BPRMeth.buildbin-libdir StartedAt: 2024-06-11 10:23:28 -0400 (Tue, 11 Jun 2024) EndedAt: 2024-06-11 10:24:28 -0400 (Tue, 11 Jun 2024) EllapsedTime: 60.1 seconds RetCode: 0 Status: OK PackageFile: BPRMeth_1.30.0.tgz PackageFileSize: 3.785 MiB