Package: BOBaFIT Version: 1.8.0 Command: E:\biocbuild\bbs-3.19-bioc\R\bin\R.exe CMD check --no-multiarch --install=check:BOBaFIT.install-out.txt --library=E:\biocbuild\bbs-3.19-bioc\R\library --no-vignettes --timings BOBaFIT_1.8.0.tar.gz StartedAt: 2024-10-16 23:28:45 -0400 (Wed, 16 Oct 2024) EndedAt: 2024-10-16 23:36:23 -0400 (Wed, 16 Oct 2024) EllapsedTime: 458.2 seconds RetCode: 0 Status: WARNINGS CheckDir: BOBaFIT.Rcheck Warnings: 1